{"text_format":"1","workbook":"xlsx","n_sheets":4,"sheets":["Výstup","Zadání","Export","Prezence a los"],"not_rendered":{"charts":0,"images":0,"macros":1,"external_links":0,"defined_names":0,"comments":0,"pivot_tables":0},"unopened":[],"bounds":{"document_bytes":16777216,"sheet_cells":100000,"rows_first":2000,"rows_last":500,"rows_between":2000,"halvings":0,"cell_chars":16384,"cell_head_chars":4096},"cells_cut":0,"cells_raw":0,"read":"whole","date_system":"1900"}

{"sheet":"Výstup","index":0,"n_rows":73,"n_cols":15,"rows_kept":73,"cut":false,"hidden":false,"merged":[[3,3,3,6],[3,7,3,10],[3,11,3,14]]}
["Mistrovství ČR pro rok 2018"]
["Juniorky",null,null,null,null,null,null,null,null,null,null,null,null,null,"kvalifikace 1 × 120 hs, finále 1 × 120 hs"]
["Datum: 28. - 29. dubna 2018",null,null,null,null,null,null,null,null,null,null,null,null,null,"Kuželna: SK Slovan Rosice"]
["Kombinace",null,null,"Kvalifikace",null,null,null,"Finále",null,null,null,"Celkem"]
["Poř","Jméno","Oddíl","Pl","Do","Ch","Cel","Pl","Do","Ch","Cel","Pl","Do","Ch","Cel"]
[1,"Topičová Natálie","KK Slovan Rosice",406,204,2,610,395,227,1,622,{"$f":"D6+H6","v":801},{"$f":"E6+I6","v":431},{"$f":"F6+J6","v":3},{"$f":"G6+K6","v":1232}]
[2,"Mašlaňová Anna","TJ Kelč",353,187,4,540,383,205,1,588,{"$f":"D7+H7","v":736},{"$f":"E7+I7","v":392},{"$f":"F7+J7","v":5},{"$f":"G7+K7","v":1128}]
[3,"Pytlíková Denisa","SKK Rokycany",369,181,4,550,418,158,7,576,{"$f":"D8+H8","v":787},{"$f":"E8+I8","v":339},{"$f":"F8+J8","v":11},{"$f":"G8+K8","v":1126}]
[4,"Portyšová Nikola","SKK Jičín",370,186,2,556,379,188,3,567,{"$f":"D9+H9","v":749},{"$f":"E9+I9","v":374},{"$f":"F9+J9","v":5},{"$f":"G9+K9","v":1123}]
[5,"Lidman Linda","TJ Jiskra Hazlov",368,180,1,548,365,205,2,570,{"$f":"D10+H10","v":733},{"$f":"E10+I10","v":385},{"$f":"F10+J10","v":3},{"$f":"G10+K10","v":1118}]
[6,"Pavelková Monika","TJ Spartak Přerov",357,174,6,531,374,205,5,579,{"$f":"D11+H11","v":731},{"$f":"E11+I11","v":379},{"$f":"F11+J11","v":11},{"$f":"G11+K11","v":1110}]
[7,"Wajsarová Monika","TJ Dynamo Liberec",353,177,1,530,376,203,1,579,{"$f":"D12+H12","v":729},{"$f":"E12+I12","v":380},{"$f":"F12+J12","v":2},{"$f":"G12+K12","v":1109}]
[8,"Buďová Tereza","TJ Nové Město na Moravě",349,170,7,519,368,219,1,587,{"$f":"D13+H13","v":717},{"$f":"E13+I13","v":389},{"$f":"F13+J13","v":8},{"$f":"G13+K13","v":1106}]
[9,"Kubáčková Eliška","TJ Sokol Husovice",374,172,4,546,381,171,6,552,{"$f":"D14+H14","v":755},{"$f":"E14+I14","v":343},{"$f":"F14+J14","v":10},{"$f":"G14+K14","v":1098}]
[10,"Maněnová Monika","TJ Šabina",389,174,4,563,358,173,9,531,{"$f":"D15+H15","v":747},{"$f":"E15+I15","v":347},{"$f":"F15+J15","v":13},{"$f":"G15+K15","v":1094}]
[11,"Janyšková Barbora","TJ Sokol Sedlnice",387,180,3,567,350,175,4,525,{"$f":"D16+H16","v":737},{"$f":"E16+I16","v":355},{"$f":"F16+J16","v":7},{"$f":"G16+K16","v":1092}]
[12,"Šimková Jitka","SK Podlužan Prušánky",345,194,4,539,371,175,6,546,{"$f":"D17+H17","v":716},{"$f":"E17+I17","v":369},{"$f":"F17+J17","v":10},{"$f":"G17+K17","v":1085}]
[13,"Niklová Monika","TJ Sokol Vracov",367,194,3,561,360,161,5,521,{"$f":"D18+H18","v":727},{"$f":"E18+I18","v":355},{"$f":"F18+J18","v":8},{"$f":"G18+K18","v":1082}]
[14,"Vašáková Barbora","TJ Loko Ústí nad Labem",378,180,5,558,351,172,6,523,{"$f":"D19+H19","v":729},{"$f":"E19+I19","v":352},{"$f":"F19+J19","v":11},{"$f":"G19+K19","v":1081}]
[15,"Zajacová Michaela","KK Blansko",357,173,7,530,383,166,10,549,{"$f":"D20+H20","v":740},{"$f":"E20+I20","v":339},{"$f":"F20+J20","v":17},{"$f":"G20+K20","v":1079}]
[16,"Utíkalová Karoline","TJ Jiskra Hazlov",361,163,8,524,367,186,3,553,{"$f":"D21+H21","v":728},{"$f":"E21+I21","v":349},{"$f":"F21+J21","v":11},{"$f":"G21+K21","v":1077}]
[17,"Vrecková Hana","TJ Jiskra Nová Bystřice",366,166,12,532,381,163,8,544,{"$f":"D22+H22","v":747},{"$f":"E22+I22","v":329},{"$f":"F22+J22","v":20},{"$f":"G22+K22","v":1076}]
[18,"Beranová Hana","SK Baník Ratíškovice",353,185,4,538,351,182,7,533,{"$f":"D23+H23","v":704},{"$f":"E23+I23","v":367},{"$f":"F23+J23","v":11},{"$f":"G23+K23","v":1071}]
[19,"Štursová Tereza","TJ Lomnice",362,168,7,530,363,175,5,538,{"$f":"D24+H24","v":725},{"$f":"E24+I24","v":343},{"$f":"F24+J24","v":12},{"$f":"G24+K24","v":1068}]
[20,"Běhounová Michaela","TJ Jiskra Nová Bystřice",365,180,3,545,352,169,6,521,{"$f":"D25+H25","v":717},{"$f":"E25+I25","v":349},{"$f":"F25+J25","v":9},{"$f":"G25+K25","v":1066}]
[21,"Betuštiaková Stanislava","Sokol Nové Hrady",356,174,9,530,364,158,16,522,{"$f":"D26+H26","v":720},{"$f":"E26+I26","v":332},{"$f":"F26+J26","v":25},{"$f":"G26+K26","v":1052}]
[22,"Zimáková Kristýna","KC Zlín",378,153,7,531,370,144,11,514,{"$f":"D27+H27","v":748},{"$f":"E27+I27","v":297},{"$f":"F27+J27","v":18},{"$f":"G27+K27","v":1045}]
[23,"Miláčková Klára","TJ Spartak Kutná Hora",349,176,6,525,350,167,11,517,{"$f":"D28+H28","v":699},{"$f":"E28+I28","v":343},{"$f":"F28+J28","v":17},{"$f":"G28+K28","v":1042}]
[24,"Žáčková Michaela","KK PSJ Jihlava",355,171,7,526,341,163,6,504,{"$f":"D29+H29","v":696},{"$f":"E29+I29","v":334},{"$f":"F29+J29","v":13},{"$f":"G29+K29","v":1030}]
[25,"Kusiová Aneta","KK Slavoj Žirovnice",358,154,8,512]
[26,"Presová Veronika","TJ Sokol Vracov",342,165,4,507]
[27,"Nálevková Denisa","SKK Hořice",341,159,7,500]
[28,"Weissová Michaela","KK Jiří Poděbrady",339,158,6,497]
[29,"Vajdíková Lucie","TJ Lomnice",356,141,12,497]
[30,"Rubášová Michaela","TJ Sokol Kdyně",361,136,18,497]
[31,"Šustková Petra","KC Zlín",339,149,5,488]
[32,"Fejfarová Martina","SKK Vrchlabí",322,151,14,473]
[33,"Doškářová Anna","KK Kosmonosy",339,133,14,472]
[34,"Betuštiaková Natálie","Sokol Nové Hrady",341,117,14,458]
[35,"Schuldová Radka","Kuželky Holýšov",317,130,15,447]
[36,"Dinnebierová Ilona","TJ Start Jihlava",315,128,13,443]
[]
[]
[]
[{"$f":"A1","v":"Mistrovství ČR pro rok 2018"}]
["Juniorky"]
["Datum: 29. dubna 2018",null,null,null,null,null,{"$f":"O3","v":"Kuželna: SK Slovan Rosice"}]
["120 hs"]
["Poř","Jméno","Oddíl","Pl","Do","Ch","Cel"]
[1,"Topičová Natálie","KK Slovan Rosice",395,227,1,622]
[2,"Mašlaňová Anna","TJ Kelč",383,205,1,588]
[3,"Buďová Tereza","TJ Nové Město na Moravě",368,219,1,587]
[4,"Pavelková Monika","TJ Spartak Přerov",374,205,5,579]
[5,"Wajsarová Monika","TJ Dynamo Liberec",376,203,1,579]
[6,"Pytlíková Denisa","SKK Rokycany",418,158,7,576]
[7,"Lidman Linda","TJ Jiskra Hazlov",365,205,2,570]
[8,"Portyšová Nikola","SKK Jičín",379,188,3,567]
[9,"Utíkalová Karoline","TJ Jiskra Hazlov",367,186,3,553]
[10,"Kubáčková Eliška","TJ Sokol Husovice",381,171,6,552]
[11,"Zajacová Michaela","KK Blansko",383,166,10,549]
[12,"Šimková Jitka","SK Podlužan Prušánky",371,175,6,546]
[13,"Vrecková Hana","TJ Jiskra Nová Bystřice",381,163,8,544]
[14,"Štursová Tereza","TJ Lomnice",363,175,5,538]
[15,"Beranová Hana","SK Baník Ratíškovice",351,182,7,533]
[16,"Maněnová Monika","TJ Šabina",358,173,9,531]
[17,"Janyšková Barbora","TJ Sokol Sedlnice",350,175,4,525]
[18,"Vašáková Barbora","TJ Loko Ústí nad Labem",351,172,6,523]
[19,"Betuštiaková Stanislava","Sokol Nové Hrady",364,158,16,522]
[20,"Běhounová Michaela","TJ Jiskra Nová Bystřice",352,169,6,521]
[21,"Niklová Monika","TJ Sokol Vracov",360,161,5,521]
[22,"Miláčková Klára","TJ Spartak Kutná Hora",350,167,11,517]
[23,"Zimáková Kristýna","KC Zlín",370,144,11,514]
[24,"Žáčková Michaela","KK PSJ Jihlava",341,163,6,504]

{"sheet":"Zadání","index":1,"n_rows":247,"n_cols":20,"rows_kept":247,"cut":false,"hidden":false,"merged":[[225,2,228,2],[241,1,244,1],[241,2,244,2],[229,1,232,1],[229,2,232,2],[233,1,236,1],[233,2,236,2],[237,1,240,1],[237,2,240,2],[185,2,188,2],[189,1,192,1],[189,2,192,2],[193,1,196,1],[193,2,196,2],[221,1,224,1],[221,2,224,2],[197,1,200,1],[197,2,200,2],[201,1,204,1],[201,2,204,2],[205,1,208,1],[205,2,208,2],[209,1,212,1],[209,2,212,2],[213,1,216,1],[213,2,216,2],[217,1,220,1],[217,2,220,2],[165,2,168,2],[169,1,172,1],[169,2,172,2],[173,1,176,1],[173,2,176,2],[177,1,180,1],[177,2,180,2],[181,1,184,1],[181,2,184,2],[149,2,152,2],[153,1,156,1],[153,2,156,2],[157,0,160,0],[161,0,164,0],[149,0,152,0],[153,0,156,0],[157,1,160,1],[157,2,160,2],[161,1,164,1],[161,2,164,2],[143,2,146,2],[131,1,134,1],[131,2,134,2],[111,1,114,1],[111,2,114,2],[115,1,118,1],[115,2,118,2],[119,1,122,1],[119,2,122,2],[127,1,130,1],[127,2,130,2],[135,1,138,1],[135,2,138,2],[139,1,142,1],[139,2,142,2],[79,1,82,1],[79,2,82,2],[107,2,110,2],[87,1,90,1],[87,2,90,2],[91,1,94,1],[91,2,94,2],[123,1,126,1],[123,2,126,2],[95,1,98,1],[95,2,98,2],[99,1,102,1],[99,2,102,2],[103,1,106,1],[103,2,106,2],[3,1,6,1],[3,2,6,2],[7,1,10,1],[7,2,10,2],[35,1,38,1],[35,2,38,2],[15,1,18,1],[15,2,18,2],[19,1,22,1],[19,2,22,2],[23,1,26,1],[23,2,26,2],[27,1,30,1],[27,2,30,2],[31,1,34,1],[31,2,34,2],[11,2,14,2],[11,1,14,1],[59,2,62,2],[39,1,42,1],[39,2,42,2],[43,1,46,1],[43,2,46,2],[47,1,50,1],[47,2,50,2],[51,1,54,1],[51,2,54,2],[55,1,58,1],[55,2,58,2],[59,1,62,1],[237,0,240,0],[241,0,244,0],[229,0,232,0],[233,0,236,0],[197,0,200,0],[201,0,204,0],[107,1,110,1],[143,1,146,1],[205,0,208,0],[209,0,212,0],[213,0,216,0],[217,0,220,0],[221,0,224,0],[225,0,228,0],[149,1,152,1],[165,1,168,1],[185,1,188,1],[225,1,228,1],[189,0,192,0],[193,0,196,0],[139,0,142,0],[143,0,146,0],[131,0,134,0],[135,0,138,0],[185,0,188,0],[173,0,176,0],[177,0,180,0],[165,0,168,0],[169,0,172,0],[123,0,126,0],[127,0,130,0],[63,0,66,0],[83,2,86,2],[63,1,66,1],[115,0,118,0],[119,0,122,0],[107,0,110,0],[111,0,114,0],[99,0,102,0],[103,0,106,0],[83,1,86,1],[63,2,66,2],[67,1,70,1],[67,2,70,2],[71,1,74,1],[71,2,74,2],[75,1,78,1],[75,2,78,2],[91,0,94,0],[95,0,98,0],[83,0,86,0],[87,0,90,0],[75,0,78,0],[79,0,82,0],[67,0,70,0],[71,0,74,0],[181,0,184,0],[27,0,30,0],[31,0,34,0],[19,0,22,0],[23,0,26,0],[11,0,14,0],[15,0,18,0],[3,0,6,0],[7,0,10,0],[59,0,62,0],[51,0,54,0],[55,0,58,0],[43,0,46,0],[47,0,50,0],[35,0,38,0],[39,0,42,0]]}
[{"$f":"Výstup!A2","v":"Juniorky"}]
["Kvalifikace"]
["Č","Jméno","Oddíl","Pl","Do","Ch","Cel","Pl","Do","Ch","Cel"]
[1,{"$f":"'Prezence a los'!B2","v":"Buďová Tereza"},{"$f":"'Prezence a los'!C2","v":"TJ Nové Město na Moravě"},84,36,4,{"$f":"D4+E4","v":120},{"$f":"SUM(D4:D7)","v":349},{"$f":"SUM(E4:E7)","v":170},{"$f":"SUM(F4:F7)","v":7},{"$f":"SUM(G4:G7)","v":519},null,{"$f":"B4","v":"Buďová Tereza"},{"$f":"C4","v":"TJ Nové Město na Moravě"},{"$f":"H4","v":349},{"$f":"I4","v":170},{"$f":"J4","v":7},{"$f":"K4","v":519},null,{"$f":"G4+G5","v":255}]
[null,null,null,90,45,0,135]
[null,null,null,88,36,1,124,null,null,null,"1-2-4-3",null,null,null,null,null,null,null,null,264]
[null,null,null,87,53,2,140]
[2,{"$f":"'Prezence a los'!B3","v":"Betuštiaková Stanislava"},{"$f":"'Prezence a los'!C3","v":"Sokol Nové Hrady"},85,51,2,136,{"$f":"SUM(D8:D11)","v":356},{"$f":"SUM(E8:E11)","v":174},{"$f":"SUM(F8:F11)","v":9},{"$f":"SUM(G8:G11)","v":530},null,{"$f":"B8","v":"Betuštiaková Stanislava"},{"$f":"C8","v":"Sokol Nové Hrady"},{"$f":"H8","v":356},{"$f":"I8","v":174},{"$f":"J8","v":9},{"$f":"K8","v":530},null,263]
[null,null,null,85,42,2,127]
[null,null,null,101,45,2,146,null,null,null,"2-1-3-4",null,null,null,null,null,null,null,null,267]
[null,null,null,85,36,3,121]
[3,{"$f":"'Prezence a los'!B4","v":"Kubáčková Eliška"},{"$f":"'Prezence a los'!C4","v":"TJ Sokol Husovice"},99,45,0,144,{"$f":"SUM(D12:D15)","v":374},{"$f":"SUM(E12:E15)","v":172},{"$f":"SUM(F12:F15)","v":4},{"$f":"SUM(G12:G15)","v":546},null,{"$f":"B12","v":"Kubáčková Eliška"},{"$f":"C12","v":"TJ Sokol Husovice"},{"$f":"H12","v":374},{"$f":"I12","v":172},{"$f":"J12","v":4},{"$f":"K12","v":546},null,272]
[null,null,null,87,41,3,{"$f":"D13+E13","v":128}]
[null,null,null,98,44,1,142,null,null,null,"3-4-2-1",null,null,null,null,null,null,null,null,274]
[null,null,null,90,42,0,132]
[4,{"$f":"'Prezence a los'!B5","v":"Beranová Hana"},{"$f":"'Prezence a los'!C5","v":"SK Baník Ratíškovice"},82,45,1,127,{"$f":"SUM(D16:D19)","v":353},{"$f":"SUM(E16:E19)","v":185},{"$f":"SUM(F16:F19)","v":4},{"$f":"SUM(G16:G19)","v":538},null,{"$f":"B16","v":"Beranová Hana"},{"$f":"C16","v":"SK Baník Ratíškovice"},{"$f":"H16","v":353},{"$f":"I16","v":185},{"$f":"J16","v":4},{"$f":"K16","v":538},null,255]
[null,null,null,89,39,1,128]
[null,null,null,92,42,2,134,null,null,null,"4-3-1-2",null,null,null,null,null,null,null,null,283]
[null,null,null,90,59,0,149]
[5,{"$f":"'Prezence a los'!B6","v":"Betuštiaková Natálie"},{"$f":"'Prezence a los'!C6","v":"Sokol Nové Hrady"},88,25,4,113,{"$f":"SUM(D20:D23)","v":341},{"$f":"SUM(E20:E23)","v":117},{"$f":"SUM(F20:F23)","v":14},{"$f":"SUM(G20:G23)","v":458},null,{"$f":"B20","v":"Betuštiaková Natálie"},{"$f":"C20","v":"Sokol Nové Hrady"},{"$f":"H20","v":341},{"$f":"I20","v":117},{"$f":"J20","v":14},{"$f":"K20","v":458},null,214]
[null,null,null,84,17,5,{"$f":"D21+E21","v":101}]
[null,null,null,87,43,1,130,null,null,null,"1-2-4-3",null,null,null,null,null,null,null,null,244]
[null,null,null,82,32,4,114]
[6,{"$f":"'Prezence a los'!B7","v":"Kusiová Aneta"},{"$f":"'Prezence a los'!C7","v":"KK Slavoj Žirovnice"},98,26,4,124,{"$f":"SUM(D24:D27)","v":358},{"$f":"SUM(E24:E27)","v":154},{"$f":"SUM(F24:F27)","v":8},{"$f":"SUM(G24:G27)","v":512},null,{"$f":"B24","v":"Kusiová Aneta"},{"$f":"C24","v":"KK Slavoj Žirovnice"},{"$f":"H24","v":358},{"$f":"I24","v":154},{"$f":"J24","v":8},{"$f":"K24","v":512},null,238]
[null,null,null,79,35,3,114]
[null,null,null,91,40,1,131,null,null,null,"2-1-3-4",null,null,null,null,null,null,null,null,274]
[null,null,null,90,53,0,143]
[7,{"$f":"'Prezence a los'!B8","v":"Šimková Jitka"},{"$f":"'Prezence a los'!C8","v":"SK Podlužan Prušánky"},88,54,0,142,{"$f":"SUM(D28:D31)","v":345},{"$f":"SUM(E28:E31)","v":194},{"$f":"SUM(F28:F31)","v":4},{"$f":"SUM(G28:G31)","v":539},null,{"$f":"B28","v":"Šimková Jitka"},{"$f":"C28","v":"SK Podlužan Prušánky"},{"$f":"H28","v":345},{"$f":"I28","v":194},{"$f":"J28","v":4},{"$f":"K28","v":539},null,254]
[null,null,null,77,35,3,112]
[null,null,null,93,54,0,147,null,null,null,"3-4-2-1",null,null,null,null,null,null,null,null,285]
[null,null,null,87,51,1,138]
[8,{"$f":"'Prezence a los'!B9","v":"Niklová Monika"},{"$f":"'Prezence a los'!C9","v":"TJ Sokol Vracov"},98,32,1,130,{"$f":"SUM(D32:D35)","v":367},{"$f":"SUM(E32:E35)","v":194},{"$f":"SUM(F32:F35)","v":3},{"$f":"SUM(G32:G35)","v":561},null,{"$f":"B32","v":"Niklová Monika"},{"$f":"C32","v":"TJ Sokol Vracov"},{"$f":"H32","v":367},{"$f":"I32","v":194},{"$f":"J32","v":3},{"$f":"K32","v":561},null,283]
[null,null,null,104,49,2,153]
[null,null,null,83,53,0,136,null,null,null,"4-3-1-2",null,null,null,null,null,null,null,null,278]
[null,null,null,82,60,0,142]
[9,{"$f":"'Prezence a los'!B10","v":"Zajacová Michaela"},{"$f":"'Prezence a los'!C10","v":"KK Blansko"},86,50,2,136,{"$f":"SUM(D36:D39)","v":357},{"$f":"SUM(E36:E39)","v":173},{"$f":"SUM(F36:F39)","v":7},{"$f":"SUM(G36:G39)","v":530},null,{"$f":"B36","v":"Zajacová Michaela"},{"$f":"C36","v":"KK Blansko"},{"$f":"H36","v":357},{"$f":"I36","v":173},{"$f":"J36","v":7},{"$f":"K36","v":530},null,260]
[null,null,null,89,35,2,124]
[null,null,null,104,44,1,148,null,null,null,"1-2-4-3",null,null,null,null,null,null,null,null,270]
[null,null,null,78,44,2,122]
[10,{"$f":"'Prezence a los'!B11","v":"Dinnebierová Ilona"},{"$f":"'Prezence a los'!C11","v":"TJ Start Jihlava"},71,34,2,105,{"$f":"SUM(D40:D43)","v":315},{"$f":"SUM(E40:E43)","v":128},{"$f":"SUM(F40:F43)","v":13},{"$f":"SUM(G40:G43)","v":443},null,{"$f":"B40","v":"Dinnebierová Ilona"},{"$f":"C40","v":"TJ Start Jihlava"},{"$f":"H40","v":315},{"$f":"I40","v":128},{"$f":"J40","v":13},{"$f":"K40","v":443},null,235]
[null,null,null,88,42,2,130]
[null,null,null,80,35,2,115,null,null,null,"2-1-3-4",null,null,null,null,null,null,null,null,208]
[null,null,null,76,17,7,93]
[11,{"$f":"'Prezence a los'!B12","v":"Topičová Natálie"},{"$f":"'Prezence a los'!C12","v":"KK Slovan Rosice"},106,63,0,{"$f":"D44+E44","v":169},{"$f":"SUM(D44:D47)","v":406},{"$f":"SUM(E44:E47)","v":204},{"$f":"SUM(F44:F47)","v":2},{"$f":"SUM(G44:G47)","v":610},null,{"$f":"B44","v":"Topičová Natálie"},{"$f":"C44","v":"KK Slovan Rosice"},{"$f":"H44","v":406},{"$f":"I44","v":204},{"$f":"J44","v":2},{"$f":"K44","v":610},null,303]
[null,null,null,89,45,1,{"$f":"D45+E45","v":134}]
[null,null,null,106,51,1,{"$f":"D46+E46","v":157},null,null,null,"3-4-2-1",null,null,null,null,null,null,null,null,307]
[null,null,null,105,45,0,{"$f":"D47+E47","v":150}]
[12,{"$f":"'Prezence a los'!B13","v":"Presová Veronika"},{"$f":"'Prezence a los'!C13","v":"TJ Sokol Vracov"},80,36,1,{"$f":"D48+E48","v":116},{"$f":"SUM(D48:D51)","v":342},{"$f":"SUM(E48:E51)","v":165},{"$f":"SUM(F48:F51)","v":4},{"$f":"SUM(G48:G51)","v":507},null,{"$f":"B48","v":"Presová Veronika"},{"$f":"C48","v":"TJ Sokol Vracov"},{"$f":"H48","v":342},{"$f":"I48","v":165},{"$f":"J48","v":4},{"$f":"K48","v":507},null,247]
[null,null,null,90,41,0,{"$f":"D49+E49","v":131}]
[null,null,null,82,36,1,118,null,null,null,"4-3-1-2",null,null,null,null,null,null,null,null,260]
[null,null,null,90,52,2,142]
[13,{"$f":"'Prezence a los'!B14","v":"Fejfarová Martina"},{"$f":"'Prezence a los'!C14","v":"SKK Vrchlabí"},74,53,3,127,{"$f":"SUM(D52:D55)","v":322},{"$f":"SUM(E52:E55)","v":151},{"$f":"SUM(F52:F55)","v":14},{"$f":"SUM(G52:G55)","v":473},null,{"$f":"B52","v":"Fejfarová Martina"},{"$f":"C52","v":"SKK Vrchlabí"},{"$f":"H52","v":322},{"$f":"I52","v":151},{"$f":"J52","v":14},{"$f":"K52","v":473},null,253]
[null,null,null,95,31,5,126]
[null,null,null,74,34,3,108,null,null,null,"1-2-4-3",null,null,null,null,null,null,null,null,220]
[null,null,null,79,33,3,112]
[14,{"$f":"'Prezence a los'!B15","v":"Mašlaňová Anna"},{"$f":"'Prezence a los'!C15","v":"TJ Kelč"},92,36,4,128,{"$f":"SUM(D56:D59)","v":353},{"$f":"SUM(E56:E59)","v":187},{"$f":"SUM(F56:F59)","v":4},{"$f":"SUM(G56:G59)","v":540},null,{"$f":"B56","v":"Mašlaňová Anna"},{"$f":"C56","v":"TJ Kelč"},{"$f":"H56","v":353},{"$f":"I56","v":187},{"$f":"J56","v":4},{"$f":"K56","v":540},null,263]
[null,null,null,90,45,0,135]
[null,null,null,78,53,0,131,null,null,null,"2-1-3-4",null,null,null,null,null,null,null,null,277]
[null,null,null,93,53,0,146]
[15,{"$f":"'Prezence a los'!B16","v":"Běhounová Michaela"},{"$f":"'Prezence a los'!C16","v":"TJ Jiskra Nová Bystřice"},107,43,1,150,{"$f":"SUM(D60:D63)","v":365},{"$f":"SUM(E60:E63)","v":180},{"$f":"SUM(F60:F63)","v":3},{"$f":"SUM(G60:G63)","v":545},null,{"$f":"B60","v":"Běhounová Michaela"},{"$f":"C60","v":"TJ Jiskra Nová Bystřice"},{"$f":"H60","v":365},{"$f":"I60","v":180},{"$f":"J60","v":3},{"$f":"K60","v":545},null,269]
[null,null,null,74,45,1,119]
[null,null,null,95,50,1,145,null,null,null,"3-4-2-1",null,null,null,null,null,null,null,null,276]
[null,null,null,89,42,0,131]
[16,{"$f":"'Prezence a los'!B17","v":"Žáčková Michaela"},{"$f":"'Prezence a los'!C17","v":"KK PSJ Jihlava"},97,45,1,142,{"$f":"SUM(D64:D67)","v":355},{"$f":"SUM(E64:E67)","v":171},{"$f":"SUM(F64:F67)","v":7},{"$f":"SUM(G64:G67)","v":526},null,{"$f":"B64","v":"Žáčková Michaela"},{"$f":"C64","v":"KK PSJ Jihlava"},{"$f":"H64","v":355},{"$f":"I64","v":171},{"$f":"J64","v":7},{"$f":"K64","v":526},null,286]
[null,null,null,85,59,2,144]
[null,null,null,91,40,1,131,null,null,null,"4-3-1-2",null,null,null,null,null,null,null,null,240]
[null,null,null,82,27,3,109]
[17,{"$f":"'Prezence a los'!B18","v":"Pavelková Monika"},{"$f":"'Prezence a los'!C18","v":"TJ Spartak Přerov"},88,44,2,132,{"$f":"SUM(D68:D71)","v":357},{"$f":"SUM(E68:E71)","v":174},{"$f":"SUM(F68:F71)","v":6},{"$f":"SUM(G68:G71)","v":531},null,{"$f":"B68","v":"Pavelková Monika"},{"$f":"C68","v":"TJ Spartak Přerov"},{"$f":"H68","v":357},{"$f":"I68","v":174},{"$f":"J68","v":6},{"$f":"K68","v":531},null,{"$f":"G68+G69","v":263}]
[null,null,null,96,35,2,131]
[null,null,null,87,50,0,137,null,null,null,"1-2-4-3",null,null,null,null,null,null,null,null,268]
[null,null,null,86,45,2,131]
[18,{"$f":"'Prezence a los'!B19","v":"Vrecková Hana"},{"$f":"'Prezence a los'!C19","v":"TJ Jiskra Nová Bystřice"},91,53,2,144,{"$f":"SUM(D72:D75)","v":366},{"$f":"SUM(E72:E75)","v":166},{"$f":"SUM(F72:F75)","v":12},{"$f":"SUM(G72:G75)","v":532},null,{"$f":"B72","v":"Vrecková Hana"},{"$f":"C72","v":"TJ Jiskra Nová Bystřice"},{"$f":"H72","v":366},{"$f":"I72","v":166},{"$f":"J72","v":12},{"$f":"K72","v":532},null,265]
[null,null,null,78,43,6,121]
[null,null,null,99,36,2,135,null,null,null,"2-1-3-4",null,null,null,null,null,null,null,null,267]
[null,null,null,98,34,2,132]
[19,{"$f":"'Prezence a los'!B20","v":"Nálevková Denisa"},{"$f":"'Prezence a los'!C20","v":"SKK Hořice"},89,45,2,134,{"$f":"SUM(D76:D79)","v":341},{"$f":"SUM(E76:E79)","v":159},{"$f":"SUM(F76:F79)","v":7},{"$f":"SUM(G76:G79)","v":500},null,{"$f":"B76","v":"Nálevková Denisa"},{"$f":"C76","v":"SKK Hořice"},{"$f":"H76","v":341},{"$f":"I76","v":159},{"$f":"J76","v":7},{"$f":"K76","v":500},null,260]
[null,null,null,90,36,5,126]
[null,null,null,88,39,0,127,null,null,null,"3-4-2-1",null,null,null,null,null,null,null,null,240]
[null,null,null,74,39,0,113]
[20,{"$f":"'Prezence a los'!B21","v":"Šustková Petra"},{"$f":"'Prezence a los'!C21","v":"KC Zlín"},67,44,0,111,{"$f":"SUM(D80:D83)","v":339},{"$f":"SUM(E80:E83)","v":149},{"$f":"SUM(F80:F83)","v":5},{"$f":"SUM(G80:G83)","v":488},null,{"$f":"B80","v":"Šustková Petra"},{"$f":"C80","v":"KC Zlín"},{"$f":"H80","v":339},{"$f":"I80","v":149},{"$f":"J80","v":5},{"$f":"K80","v":488},null,213]
[null,null,null,84,18,5,102]
[null,null,null,91,43,0,134,null,null,null,"4-3-1-2",null,null,null,null,null,null,null,null,275]
[null,null,null,97,44,0,141]
[21,{"$f":"'Prezence a los'!B22","v":"Portyšová Nikola"},{"$f":"'Prezence a los'!C22","v":"SKK Jičín"},103,62,1,{"$f":"D84+E84","v":165},{"$f":"SUM(D84:D87)","v":370},{"$f":"SUM(E84:E87)","v":186},{"$f":"SUM(F84:F87)","v":2},{"$f":"SUM(G84:G87)","v":556},null,{"$f":"B84","v":"Portyšová Nikola"},{"$f":"C84","v":"SKK Jičín"},{"$f":"H84","v":370},{"$f":"I84","v":186},{"$f":"J84","v":2},{"$f":"K84","v":556},null,290]
[null,null,null,90,35,1,125]
[null,null,null,95,45,0,140,null,null,null,"1-2-4-3",null,null,null,null,null,null,null,null,266]
[null,null,null,82,44,0,126]
[22,{"$f":"'Prezence a los'!B23","v":"Miláčková Klára"},{"$f":"'Prezence a los'!C23","v":"TJ Spartak Kutná Hora"},88,60,0,148,{"$f":"SUM(D88:D91)","v":349},{"$f":"SUM(E88:E91)","v":176},{"$f":"SUM(F88:F91)","v":6},{"$f":"SUM(G88:G91)","v":525},null,{"$f":"B88","v":"Miláčková Klára"},{"$f":"C88","v":"TJ Spartak Kutná Hora"},{"$f":"H88","v":349},{"$f":"I88","v":176},{"$f":"J88","v":6},{"$f":"K88","v":525},null,251]
[null,null,null,85,18,4,103]
[null,null,null,97,45,1,142,null,null,null,"2-1-3-4",null,null,null,null,null,null,null,null,274]
[null,null,null,79,53,1,132]
[23,{"$f":"'Prezence a los'!B24","v":"Zimáková Kristýna"},{"$f":"'Prezence a los'!C24","v":"KC Zlín"},105,34,3,139,{"$f":"SUM(D92:D95)","v":378},{"$f":"SUM(E92:E95)","v":153},{"$f":"SUM(F92:F95)","v":7},{"$f":"SUM(G92:G95)","v":531},null,{"$f":"B92","v":"Zimáková Kristýna"},{"$f":"C92","v":"KC Zlín"},{"$f":"H92","v":378},{"$f":"I92","v":153},{"$f":"J92","v":7},{"$f":"K92","v":531},null,283]
[null,null,null,99,45,2,144]
[null,null,null,85,31,2,116,null,null,null,"3-4-2-1",null,null,null,null,null,null,null,null,248]
[null,null,null,89,43,0,132]
[24,{"$f":"'Prezence a los'!B25","v":"Janyšková Barbora"},{"$f":"'Prezence a los'!C25","v":"TJ Sokol Sedlnice"},99,36,2,135,{"$f":"SUM(D96:D99)","v":387},{"$f":"SUM(E96:E99)","v":180},{"$f":"SUM(F96:F99)","v":3},{"$f":"SUM(G96:G99)","v":567},null,{"$f":"B96","v":"Janyšková Barbora"},{"$f":"C96","v":"TJ Sokol Sedlnice"},{"$f":"H96","v":387},{"$f":"I96","v":180},{"$f":"J96","v":3},{"$f":"K96","v":567},null,275]
[null,null,null,95,45,0,140]
[null,null,null,92,54,0,146,null,null,null,"4-3-1-2",null,null,null,null,null,null,null,null,292]
[null,null,null,101,45,1,146]
[25,{"$f":"'Prezence a los'!B26","v":"Weissová Michaela"},{"$f":"'Prezence a los'!C26","v":"KK Jiří Poděbrady"},91,32,2,123,{"$f":"SUM(D100:D103)","v":339},{"$f":"SUM(E100:E103)","v":158},{"$f":"SUM(F100:F103)","v":6},{"$f":"SUM(G100:G103)","v":497},null,{"$f":"B100","v":"Weissová Michaela"},{"$f":"C100","v":"KK Jiří Poděbrady"},{"$f":"H100","v":339},{"$f":"I100","v":158},{"$f":"J100","v":6},{"$f":"K100","v":497},null,{"$f":"G100+G101","v":255}]
[null,null,null,84,48,0,132]
[null,null,null,82,34,2,116,null,null,null,"1-2-4-3",null,null,null,null,null,null,null,null,{"$f":"G102+G103","v":242}]
[null,null,null,82,44,2,126]
[26,{"$f":"'Prezence a los'!B27","v":"Vajdíková Lucie"},{"$f":"'Prezence a los'!C27","v":"TJ Lomnice"},93,36,4,129,{"$f":"SUM(D104:D107)","v":356},{"$f":"SUM(E104:E107)","v":141},{"$f":"SUM(F104:F107)","v":12},{"$f":"SUM(G104:G107)","v":497},null,{"$f":"B104","v":"Vajdíková Lucie"},{"$f":"C104","v":"TJ Lomnice"},{"$f":"H104","v":356},{"$f":"I104","v":141},{"$f":"J104","v":12},{"$f":"K104","v":497},null,{"$f":"G104+G105","v":258}]
[null,null,null,85,44,1,129]
[null,null,null,91,25,4,116,null,null,null,"2-1-3-4",null,null,null,null,null,null,null,null,{"$f":"G106+G107","v":239}]
[null,null,null,87,36,3,123]
[27,{"$f":"'Prezence a los'!B28","v":"Wajsarová Monika"},{"$f":"'Prezence a los'!C28","v":"TJ Dynamo Liberec"},102,36,1,138,{"$f":"SUM(D108:D111)","v":353},{"$f":"SUM(E108:E111)","v":177},{"$f":"SUM(F108:F111)","v":1},{"$f":"SUM(G108:G111)","v":530},null,{"$f":"B108","v":"Wajsarová Monika"},{"$f":"C108","v":"TJ Dynamo Liberec"},{"$f":"H108","v":353},{"$f":"I108","v":177},{"$f":"J108","v":1},{"$f":"K108","v":530},null,{"$f":"G108+G109","v":260}]
[null,null,null,78,44,0,122]
[null,null,null,82,45,0,127,null,null,null,"3-4-2-1",null,null,null,null,null,null,null,null,{"$f":"G110+G111","v":270}]
[null,null,null,91,52,0,143]
[28,{"$f":"'Prezence a los'!B29","v":"Doškářová Anna"},{"$f":"'Prezence a los'!C29","v":"KK Kosmonosy"},83,36,3,119,{"$f":"SUM(D112:D115)","v":339},{"$f":"SUM(E112:E115)","v":133},{"$f":"SUM(F112:F115)","v":14},{"$f":"SUM(G112:G115)","v":472},null,{"$f":"B112","v":"Doškářová Anna"},{"$f":"C112","v":"KK Kosmonosy"},{"$f":"H112","v":339},{"$f":"I112","v":133},{"$f":"J112","v":14},{"$f":"K112","v":472},null,{"$f":"G112+G113","v":224}]
[null,null,null,88,17,6,105]
[null,null,null,88,45,1,133,null,null,null,"4-3-1-2",null,null,null,null,null,null,null,null,{"$f":"G114+G115","v":248}]
[null,null,null,80,35,4,115]
[29,{"$f":"'Prezence a los'!B30","v":"Štursová Tereza"},{"$f":"'Prezence a los'!C30","v":"TJ Lomnice"},85,45,1,130,{"$f":"SUM(D116:D119)","v":362},{"$f":"SUM(E116:E119)","v":168},{"$f":"SUM(F116:F119)","v":7},{"$f":"SUM(G116:G119)","v":530},null,{"$f":"B116","v":"Štursová Tereza"},{"$f":"C116","v":"TJ Lomnice"},{"$f":"H116","v":362},{"$f":"I116","v":168},{"$f":"J116","v":7},{"$f":"K116","v":530},null,{"$f":"G116+G117","v":257}]
[null,null,null,88,39,2,127]
[null,null,null,92,34,2,126,null,null,null,"1-2-4-3",null,null,null,null,null,null,null,null,{"$f":"G118+G119","v":273}]
[null,null,null,97,50,2,147]
[30,{"$f":"'Prezence a los'!B31","v":"Rubášová Michaela"},{"$f":"'Prezence a los'!C31","v":"TJ Sokol Kdyně"},95,41,3,136,{"$f":"SUM(D120:D123)","v":361},{"$f":"SUM(E120:E123)","v":136},{"$f":"SUM(F120:F123)","v":18},{"$f":"SUM(G120:G123)","v":497},null,{"$f":"B120","v":"Rubášová Michaela"},{"$f":"C120","v":"TJ Sokol Kdyně"},{"$f":"H120","v":361},{"$f":"I120","v":136},{"$f":"J120","v":18},{"$f":"K120","v":497},null,{"$f":"G120+G121","v":245}]
[null,null,null,93,16,9,109]
[null,null,null,83,35,3,118,null,null,null,"2-1-3-4",null,null,null,null,null,null,null,null,{"$f":"G122+G123","v":252}]
[null,null,null,90,44,3,134]
[31,{"$f":"'Prezence a los'!B32","v":"Lidman Linda"},{"$f":"'Prezence a los'!C32","v":"TJ Jiskra Hazlov"},101,49,0,150,{"$f":"SUM(D124:D127)","v":368},{"$f":"SUM(E124:E127)","v":180},{"$f":"SUM(F124:F127)","v":1},{"$f":"SUM(G124:G127)","v":548},null,{"$f":"B124","v":"Lidman Linda"},{"$f":"C124","v":"TJ Jiskra Hazlov"},{"$f":"H124","v":368},{"$f":"I124","v":180},{"$f":"J124","v":1},{"$f":"K124","v":548},null,{"$f":"G124+G125","v":284}]
[null,null,null,80,54,0,134]
[null,null,null,93,43,0,136,null,null,null,"3-4-2-1",null,null,null,null,null,null,null,null,{"$f":"G126+G127","v":264}]
[null,null,null,94,34,1,128]
[32,{"$f":"'Prezence a los'!B33","v":"Schuldová Radka"},{"$f":"'Prezence a los'!C33","v":"Kuželky Holýšov"},82,36,3,118,{"$f":"SUM(D128:D131)","v":317},{"$f":"SUM(E128:E131)","v":130},{"$f":"SUM(F128:F131)","v":15},{"$f":"SUM(G128:G131)","v":447},null,{"$f":"B128","v":"Schuldová Radka"},{"$f":"C128","v":"Kuželky Holýšov"},{"$f":"H128","v":317},{"$f":"I128","v":130},{"$f":"J128","v":15},{"$f":"K128","v":447},null,{"$f":"G128+G129","v":242}]
[null,null,null,80,44,3,124]
[null,null,null,79,26,4,105,null,null,null,"4-3-1-2",null,null,null,null,null,null,null,null,{"$f":"G130+G131","v":205}]
[null,null,null,76,24,5,100]
[33,{"$f":"'Prezence a los'!B34","v":"Pytlíková Denisa"},{"$f":"'Prezence a los'!C34","v":"SKK Rokycany"},94,35,2,129,{"$f":"SUM(D132:D135)","v":369},{"$f":"SUM(E132:E135)","v":181},{"$f":"SUM(F132:F135)","v":4},{"$f":"SUM(G132:G135)","v":550},null,{"$f":"B132","v":"Pytlíková Denisa"},{"$f":"C132","v":"SKK Rokycany"},{"$f":"H132","v":369},{"$f":"I132","v":181},{"$f":"J132","v":4},{"$f":"K132","v":550},null,{"$f":"G132+G133","v":278}]
[null,null,null,98,51,0,149]
[null,null,null,77,50,0,127,null,null,null,"1-2-4-3",null,null,null,null,null,null,null,null,{"$f":"G134+G135","v":272}]
[null,null,null,100,45,2,145]
[34,{"$f":"'Prezence a los'!B35","v":"Maněnová Monika"},{"$f":"'Prezence a los'!C35","v":"TJ Šabina"},98,35,1,133,{"$f":"SUM(D136:D139)","v":389},{"$f":"SUM(E136:E139)","v":174},{"$f":"SUM(F136:F139)","v":4},{"$f":"SUM(G136:G139)","v":563},null,{"$f":"B136","v":"Maněnová Monika"},{"$f":"C136","v":"TJ Šabina"},{"$f":"H136","v":389},{"$f":"I136","v":174},{"$f":"J136","v":4},{"$f":"K136","v":563},null,{"$f":"G136+G137","v":276}]
[null,null,null,98,45,1,143]
[null,null,null,97,52,1,149,null,null,null,"2-1-3-4",null,null,null,null,null,null,null,null,{"$f":"G138+G139","v":287}]
[null,null,null,96,42,1,138]
[35,{"$f":"'Prezence a los'!B36","v":"Vašáková Barbora"},{"$f":"'Prezence a los'!C36","v":"TJ Loko Ústí nad Labem"},92,54,1,{"$f":"D140+E140","v":146},{"$f":"SUM(D140:D143)","v":378},{"$f":"SUM(E140:E143)","v":180},{"$f":"SUM(F140:F143)","v":5},{"$f":"SUM(G140:G143)","v":558},null,{"$f":"B140","v":"Vašáková Barbora"},{"$f":"C140","v":"TJ Loko Ústí nad Labem"},{"$f":"H140","v":378},{"$f":"I140","v":180},{"$f":"J140","v":5},{"$f":"K140","v":558},null,{"$f":"G140+G141","v":269}]
[null,null,null,78,45,1,123]
[null,null,null,100,36,2,136,null,null,null,"3-4-2-1",null,null,null,null,null,null,null,null,{"$f":"G142+G143","v":289}]
[null,null,null,108,45,1,153]
[36,{"$f":"'Prezence a los'!B37","v":"Utíkalová Karoline"},{"$f":"'Prezence a los'!C37","v":"TJ Jiskra Hazlov"},90,44,1,134,{"$f":"SUM(D144:D147)","v":361},{"$f":"SUM(E144:E147)","v":163},{"$f":"SUM(F144:F147)","v":8},{"$f":"SUM(G144:G147)","v":524},null,{"$f":"B144","v":"Utíkalová Karoline"},{"$f":"C144","v":"TJ Jiskra Hazlov"},{"$f":"H144","v":361},{"$f":"I144","v":163},{"$f":"J144","v":8},{"$f":"K144","v":524},null,{"$f":"G144+G145","v":273}]
[null,null,null,96,43,2,139]
[null,null,null,86,50,2,136,null,null,null,"4-3-1-2",null,null,null,null,null,null,null,null,{"$f":"G146+G147","v":251}]
[null,null,null,89,26,3,115]
[]
["Finále"]
[24,{"$f":"Export!B85","v":"Buďová Tereza"},{"$f":"Export!C85","v":"TJ Nové Město na Moravě"},102,70,0,{"$f":"D150+E150","v":172},{"$f":"SUM(D150:D153)","v":368},{"$f":"SUM(E150:E153)","v":219},{"$f":"SUM(F150:F153)","v":1},{"$f":"SUM(G150:G153)","v":587},{"$f":"K150+H152","v":587},{"$f":"B150","v":"Buďová Tereza"},{"$f":"C150","v":"TJ Nové Město na Moravě"},{"$f":"H150","v":368},{"$f":"I150","v":219},{"$f":"J150","v":1},{"$f":"K150","v":587},null,{"$f":"G150+G151","v":299}]
[null,null,null,88,39,1,{"$f":"D151+E151","v":127}]
[null,null,null,93,62,0,{"$f":"D152+E152","v":155},null,null,null,"1-2-4-3",null,null,null,null,null,null,null,null,{"$f":"G152+G153","v":288}]
[null,null,null,85,48,0,{"$f":"D153+E153","v":133}]
[23,{"$f":"Export!B86","v":"Utíkalová Karoline"},{"$f":"Export!C86","v":"TJ Jiskra Hazlov"},93,54,1,{"$f":"D154+E154","v":147},{"$f":"SUM(D154:D157)","v":367},{"$f":"SUM(E154:E157)","v":186},{"$f":"SUM(F154:F157)","v":3},{"$f":"SUM(G154:G157)","v":553},{"$f":"K154+H156","v":553},{"$f":"B154","v":"Utíkalová Karoline"},{"$f":"C154","v":"TJ Jiskra Hazlov"},{"$f":"H154","v":367},{"$f":"I154","v":186},{"$f":"J154","v":3},{"$f":"K154","v":553},null,{"$f":"G154+G155","v":285}]
[null,null,null,102,36,2,{"$f":"D155+E155","v":138}]
[null,null,null,89,43,0,132,null,null,null,"2-1-3-4",null,null,null,null,null,null,null,null,{"$f":"G156+G157","v":268}]
[null,null,null,83,53,0,136]
[22,{"$f":"Export!B87","v":"Miláčková Klára"},{"$f":"Export!C87","v":"TJ Spartak Kutná Hora"},89,62,0,151,{"$f":"SUM(D158:D161)","v":350},{"$f":"SUM(E158:E161)","v":167},{"$f":"SUM(F158:F161)","v":11},{"$f":"SUM(G158:G161)","v":517},{"$f":"K158+H160","v":517},{"$f":"B158","v":"Miláčková Klára"},{"$f":"C158","v":"TJ Spartak Kutná Hora"},{"$f":"H158","v":350},{"$f":"I158","v":167},{"$f":"J158","v":11},{"$f":"K158","v":517},null,{"$f":"G158+G159","v":265}]
[null,null,null,79,35,2,114]
[null,null,null,93,35,4,128,null,null,null,"3-4-2-1",null,null,null,null,null,null,null,null,{"$f":"G160+G161","v":252}]
[null,null,null,89,35,5,124]
[21,{"$f":"Export!B88","v":"Žáčková Michaela"},{"$f":"Export!C88","v":"KK PSJ Jihlava"},79,33,2,112,{"$f":"SUM(D162:D165)","v":341},{"$f":"SUM(E162:E165)","v":163},{"$f":"SUM(F162:F165)","v":6},{"$f":"SUM(G162:G165)","v":504},{"$f":"K162+H164","v":504},{"$f":"B162","v":"Žáčková Michaela"},{"$f":"C162","v":"KK PSJ Jihlava"},{"$f":"H162","v":341},{"$f":"I162","v":163},{"$f":"J162","v":6},{"$f":"K162","v":504},null,{"$f":"G162+G163","v":241}]
[null,null,null,79,50,0,129]
[null,null,null,87,35,3,122,null,null,null,"4-3-1-2",null,null,null,null,null,null,null,null,{"$f":"G164+G165","v":263}]
[null,null,null,96,45,1,141]
[20,{"$f":"Export!B89","v":"Štursová Tereza"},{"$f":"Export!C89","v":"TJ Lomnice"},74,43,1,{"$f":"D166+E166","v":117},{"$f":"SUM(D166:D169)","v":363},{"$f":"SUM(E166:E169)","v":175},{"$f":"SUM(F166:F169)","v":5},{"$f":"SUM(G166:G169)","v":538},{"$f":"K166+H168","v":538},{"$f":"B166","v":"Štursová Tereza"},{"$f":"C166","v":"TJ Lomnice"},{"$f":"H166","v":363},{"$f":"I166","v":175},{"$f":"J166","v":5},{"$f":"K166","v":538},null,{"$f":"G166+G167","v":260}]
[null,null,null,100,43,0,{"$f":"D167+E167","v":143}]
[null,null,null,88,45,2,{"$f":"D168+E168","v":133},null,null,null,"1-2-4-3",null,null,null,null,null,null,null,null,278]
[null,null,null,101,44,2,{"$f":"D169+E169","v":145}]
[19,{"$f":"Export!B90","v":"Zajacová Michaela"},{"$f":"Export!C90","v":"KK Blansko"},94,43,2,{"$f":"D170+E170","v":137},{"$f":"SUM(D170:D173)","v":383},{"$f":"SUM(E170:E173)","v":166},{"$f":"SUM(F170:F173)","v":10},{"$f":"SUM(G170:G173)","v":549},{"$f":"K170+H172","v":549},{"$f":"B170","v":"Zajacová Michaela"},{"$f":"C170","v":"KK Blansko"},{"$f":"H170","v":383},{"$f":"I170","v":166},{"$f":"J170","v":10},{"$f":"K170","v":549},null,287]
[null,null,null,99,51,3,{"$f":"D171+E171","v":150}]
[null,null,null,98,36,3,134,null,null,null,"2-1-3-4",null,null,null,null,null,null,null,null,262]
[null,null,null,92,36,2,128]
[18,{"$f":"Export!B91","v":"Betuštiaková Stanislava"},{"$f":"Export!C91","v":"Sokol Nové Hrady"},98,35,2,133,{"$f":"SUM(D174:D177)","v":364},{"$f":"SUM(E174:E177)","v":158},{"$f":"SUM(F174:F177)","v":16},{"$f":"SUM(G174:G177)","v":522},{"$f":"K174+H176","v":522},{"$f":"B174","v":"Betuštiaková Stanislava"},{"$f":"C174","v":"Sokol Nové Hrady"},{"$f":"H174","v":364},{"$f":"I174","v":158},{"$f":"J174","v":16},{"$f":"K174","v":522},null,274]
[null,null,null,87,54,3,141]
[null,null,null,92,35,6,127,null,null,null,"3-4-2-1",null,null,null,null,null,null,null,null,248]
[null,null,null,87,34,5,121]
[17,{"$f":"Export!B92","v":"Wajsarová Monika"},{"$f":"Export!C92","v":"TJ Dynamo Liberec"},95,52,1,147,{"$f":"SUM(D178:D181)","v":376},{"$f":"SUM(E178:E181)","v":203},{"$f":"SUM(F178:F181)","v":1},{"$f":"SUM(G178:G181)","v":579},{"$f":"K178+H180","v":579},{"$f":"B178","v":"Wajsarová Monika"},{"$f":"C178","v":"TJ Dynamo Liberec"},{"$f":"H178","v":376},{"$f":"I178","v":203},{"$f":"J178","v":1},{"$f":"K178","v":579},null,285]
[null,null,null,93,45,0,138]
[null,null,null,96,52,0,148,null,null,null,"4-3-1-2",null,null,null,null,null,null,null,null,294]
[null,null,null,92,54,0,146]
[16,{"$f":"Export!B93","v":"Zimáková Kristýna"},{"$f":"Export!C93","v":"KC Zlín"},99,32,3,131,{"$f":"SUM(D182:D185)","v":370},{"$f":"SUM(E182:E185)","v":144},{"$f":"SUM(F182:F185)","v":11},{"$f":"SUM(G182:G185)","v":514},{"$f":"K182+H184","v":514},{"$f":"B182","v":"Zimáková Kristýna"},{"$f":"C182","v":"KC Zlín"},{"$f":"H182","v":370},{"$f":"I182","v":144},{"$f":"J182","v":11},{"$f":"K182","v":514},null,252]
[null,null,null,94,27,4,121]
[null,null,null,85,52,2,137,null,null,null,"1-2-4-3",null,null,null,null,null,null,null,null,262]
[null,null,null,92,33,2,125]
[15,{"$f":"Export!B94","v":"Pavelková Monika"},{"$f":"Export!C94","v":"TJ Spartak Přerov"},85,48,1,133,{"$f":"SUM(D186:D189)","v":374},{"$f":"SUM(E186:E189)","v":205},{"$f":"SUM(F186:F189)","v":5},{"$f":"SUM(G186:G189)","v":579},{"$f":"K186+H188","v":579},{"$f":"B186","v":"Pavelková Monika"},{"$f":"C186","v":"TJ Spartak Přerov"},{"$f":"H186","v":374},{"$f":"I186","v":205},{"$f":"J186","v":5},{"$f":"K186","v":579},null,300]
[null,null,null,96,71,1,167]
[null,null,null,93,36,3,129,null,null,null,"2-1-3-4",null,null,null,null,null,null,null,null,279]
[null,null,null,100,50,0,150]
[14,{"$f":"Export!B95","v":"Vrecková Hana"},{"$f":"Export!C95","v":"TJ Jiskra Nová Bystřice"},96,41,1,137,{"$f":"SUM(D190:D193)","v":381},{"$f":"SUM(E190:E193)","v":163},{"$f":"SUM(F190:F193)","v":8},{"$f":"SUM(G190:G193)","v":544},{"$f":"K190+H192","v":544},{"$f":"B190","v":"Vrecková Hana"},{"$f":"C190","v":"TJ Jiskra Nová Bystřice"},{"$f":"H190","v":381},{"$f":"I190","v":163},{"$f":"J190","v":8},{"$f":"K190","v":544},null,259]
[null,null,null,89,33,4,122]
[null,null,null,106,44,1,150,null,null,null,"3-4-2-1",null,null,null,null,null,null,null,null,285]
[null,null,null,90,45,2,135]
[13,{"$f":"Export!B96","v":"Beranová Hana"},{"$f":"Export!C96","v":"SK Baník Ratíškovice"},80,35,3,115,{"$f":"SUM(D194:D197)","v":351},{"$f":"SUM(E194:E197)","v":182},{"$f":"SUM(F194:F197)","v":7},{"$f":"SUM(G194:G197)","v":533},{"$f":"K194+H196","v":533},{"$f":"B194","v":"Beranová Hana"},{"$f":"C194","v":"SK Baník Ratíškovice"},{"$f":"H194","v":351},{"$f":"I194","v":182},{"$f":"J194","v":7},{"$f":"K194","v":533},null,248]
[null,null,null,89,44,1,133]
[null,null,null,95,51,1,146,null,null,null,"4-3-1-2",null,null,null,null,null,null,null,null,285]
[null,null,null,87,52,2,139]
[12,{"$f":"Export!B97","v":"Šimková Jitka"},{"$f":"Export!C97","v":"SK Podlužan Prušánky"},84,61,0,{"$f":"D198+E198","v":145},{"$f":"SUM(D198:D201)","v":371},{"$f":"SUM(E198:E201)","v":175},{"$f":"SUM(F198:F201)","v":6},{"$f":"SUM(G198:G201)","v":546},{"$f":"K198+H200","v":546},{"$f":"B198","v":"Šimková Jitka"},{"$f":"C198","v":"SK Podlužan Prušánky"},{"$f":"H198","v":371},{"$f":"I198","v":175},{"$f":"J198","v":6},{"$f":"K198","v":546},null,{"$f":"G198+G199","v":278}]
[null,null,null,97,36,0,{"$f":"D199+E199","v":133}]
[null,null,null,102,43,3,{"$f":"D200+E200","v":145},null,null,null,"1-2-4-3",null,null,null,null,null,null,null,null,{"$f":"G200+G201","v":268}]
[null,null,null,88,35,3,{"$f":"D201+E201","v":123}]
[11,{"$f":"Export!B98","v":"Mašláňová Anna"},{"$f":"Export!C98","v":"TJ Kelč"},100,43,1,{"$f":"D202+E202","v":143},{"$f":"SUM(D202:D205)","v":383},{"$f":"SUM(E202:E205)","v":205},{"$f":"SUM(F202:F205)","v":1},{"$f":"SUM(G202:G205)","v":588},{"$f":"K202+H204","v":588},{"$f":"B202","v":"Mašláňová Anna"},{"$f":"C202","v":"TJ Kelč"},{"$f":"H202","v":383},{"$f":"I202","v":205},{"$f":"J202","v":1},{"$f":"K202","v":588},null,{"$f":"G202+G203","v":294}]
[null,null,null,92,59,0,{"$f":"D203+E203","v":151}]
[null,null,null,92,50,0,142,null,null,null,"2-1-3-4",null,null,null,null,null,null,null,null,{"$f":"G204+G205","v":294}]
[null,null,null,99,53,0,152]
[10,{"$f":"Export!B99","v":"Běhounová Michaela"},{"$f":"Export!C99","v":"TJ Jiskra Nová Bystřice"},91,31,3,122,{"$f":"SUM(D206:D209)","v":352},{"$f":"SUM(E206:E209)","v":169},{"$f":"SUM(F206:F209)","v":6},{"$f":"SUM(G206:G209)","v":521},{"$f":"K206+H208","v":521},{"$f":"B206","v":"Běhounová Michaela"},{"$f":"C206","v":"TJ Jiskra Nová Bystřice"},{"$f":"H206","v":352},{"$f":"I206","v":169},{"$f":"J206","v":6},{"$f":"K206","v":521},null,{"$f":"G206+G207","v":255}]
[null,null,null,89,44,2,133]
[null,null,null,83,42,0,125,null,null,null,"3-4-2-1",null,null,null,null,null,null,null,null,{"$f":"G208+G209","v":266}]
[null,null,null,89,52,1,141]
[9,{"$f":"Export!B100","v":"Kubáčková Eliška"},{"$f":"Export!C100","v":"TJ Sokol Husovice"},95,53,2,148,{"$f":"SUM(D210:D213)","v":381},{"$f":"SUM(E210:E213)","v":171},{"$f":"SUM(F210:F213)","v":6},{"$f":"SUM(G210:G213)","v":552},{"$f":"K210+H212","v":552},{"$f":"B210","v":"Kubáčková Eliška"},{"$f":"C210","v":"TJ Sokol Husovice"},{"$f":"H210","v":381},{"$f":"I210","v":171},{"$f":"J210","v":6},{"$f":"K210","v":552},null,{"$f":"G210+G211","v":279}]
[null,null,null,100,31,2,131]
[null,null,null,90,45,1,135,null,null,null,"4-3-1-2",null,null,null,null,null,null,null,null,{"$f":"G212+G213","v":273}]
[null,null,null,96,42,1,138]
[8,{"$f":"Export!B101","v":"Lidman Linda"},{"$f":"Export!C101","v":"TJ Jiskra Hazlov"},103,61,0,{"$f":"D214+E214","v":164},{"$f":"SUM(D214:D217)","v":365},{"$f":"SUM(E214:E217)","v":205},{"$f":"SUM(F214:F217)","v":2},{"$f":"SUM(G214:G217)","v":570},{"$f":"K214+H216","v":570},{"$f":"B214","v":"Lidman Linda"},{"$f":"C214","v":"TJ Jiskra Hazlov"},{"$f":"H214","v":365},{"$f":"I214","v":205},{"$f":"J214","v":2},{"$f":"K214","v":570},null,{"$f":"G214+G215","v":313}]
[null,null,null,95,54,0,149]
[null,null,null,82,36,2,118,null,null,null,"1-2-4-3",null,null,null,null,null,null,null,null,{"$f":"G216+G217","v":257}]
[null,null,null,85,54,0,139]
[7,{"$f":"Export!B102","v":"Pytlíková Denisa"},{"$f":"Export!C102","v":"SKK Rokycany"},99,36,2,135,{"$f":"SUM(D218:D221)","v":418},{"$f":"SUM(E218:E221)","v":158},{"$f":"SUM(F218:F221)","v":7},{"$f":"SUM(G218:G221)","v":576},{"$f":"K218+H220","v":576},{"$f":"B218","v":"Pytlíková Denisa"},{"$f":"C218","v":"SKK Rokycany"},{"$f":"H218","v":418},{"$f":"I218","v":158},{"$f":"J218","v":7},{"$f":"K218","v":576},null,{"$f":"G218+G219","v":298}]
[null,null,null,111,52,1,163]
[null,null,null,109,27,2,136,null,null,null,"2-1-3-4",null,null,null,null,null,null,null,null,{"$f":"G220+G221","v":278}]
[null,null,null,99,43,2,142]
[6,{"$f":"Export!B103","v":"Portyšová Nikola"},{"$f":"Export!C103","v":"SKK Jičín"},96,62,0,158,{"$f":"SUM(D222:D225)","v":379},{"$f":"SUM(E222:E225)","v":188},{"$f":"SUM(F222:F225)","v":3},{"$f":"SUM(G222:G225)","v":567},{"$f":"K222+H224","v":567},{"$f":"B222","v":"Portyšová Nikola"},{"$f":"C222","v":"SKK Jičín"},{"$f":"H222","v":379},{"$f":"I222","v":188},{"$f":"J222","v":3},{"$f":"K222","v":567},null,{"$f":"G222+G223","v":298}]
[null,null,null,95,45,1,140]
[null,null,null,96,36,0,132,null,null,null,"3-4-2-1",null,null,null,null,null,null,null,null,{"$f":"G224+G225","v":269}]
[null,null,null,92,45,2,137]
[5,{"$f":"Export!B104","v":"Vašáková Barbora"},{"$f":"Export!C104","v":"TJ Loko Ústí nad Labem"},86,45,1,131,{"$f":"SUM(D226:D229)","v":351},{"$f":"SUM(E226:E229)","v":172},{"$f":"SUM(F226:F229)","v":6},{"$f":"SUM(G226:G229)","v":523},{"$f":"K226+H228","v":523},{"$f":"B226","v":"Vašáková Barbora"},{"$f":"C226","v":"TJ Loko Ústí nad Labem"},{"$f":"H226","v":351},{"$f":"I226","v":172},{"$f":"J226","v":6},{"$f":"K226","v":523},null,{"$f":"G226+G227","v":248}]
[null,null,null,82,35,2,117]
[null,null,null,94,53,1,147,null,null,null,"4-3-1-2",null,null,null,null,null,null,null,null,{"$f":"G228+G229","v":275}]
[null,null,null,89,39,2,128]
[4,{"$f":"Export!B105","v":"Niklová Monika"},{"$f":"Export!C105","v":"TJ Sokol Vracov"},96,43,2,139,{"$f":"SUM(D230:D233)","v":360},{"$f":"SUM(E230:E233)","v":161},{"$f":"SUM(F230:F233)","v":5},{"$f":"SUM(G230:G233)","v":521},{"$f":"K230+H232","v":521},{"$f":"B230","v":"Niklová Monika"},{"$f":"C230","v":"TJ Sokol Vracov"},{"$f":"H230","v":360},{"$f":"I230","v":161},{"$f":"J230","v":5},{"$f":"K230","v":521},null,{"$f":"G230+G231","v":273}]
[null,null,null,93,41,0,134]
[null,null,null,90,32,3,122,null,null,null,"1-2-4-3",null,null,null,null,null,null,null,null,{"$f":"G232+G233","v":248}]
[null,null,null,81,45,0,126]
[3,{"$f":"Export!B106","v":"Maněnová Monika"},{"$f":"Export!C106","v":"TJ Šabina"},91,40,3,131,{"$f":"SUM(D234:D237)","v":358},{"$f":"SUM(E234:E237)","v":173},{"$f":"SUM(F234:F237)","v":9},{"$f":"SUM(G234:G237)","v":531},{"$f":"K234+H236","v":531},{"$f":"B234","v":"Maněnová Monika"},{"$f":"C234","v":"TJ Šabina"},{"$f":"H234","v":358},{"$f":"I234","v":173},{"$f":"J234","v":9},{"$f":"K234","v":531},null,{"$f":"G234+G235","v":288}]
[null,null,null,94,63,1,157]
[null,null,null,92,26,3,118,null,null,null,"2-1-3-4",null,null,null,null,null,null,null,null,{"$f":"G236+G237","v":243}]
[null,null,null,81,44,2,125]
[2,{"$f":"Export!B107","v":"Janyšková Barbora"},{"$f":"Export!C107","v":"TJ Sokol Sedlnice"},85,45,2,130,{"$f":"SUM(D238:D241)","v":350},{"$f":"SUM(E238:E241)","v":175},{"$f":"SUM(F238:F241)","v":4},{"$f":"SUM(G238:G241)","v":525},{"$f":"K238+H240","v":525},{"$f":"B238","v":"Janyšková Barbora"},{"$f":"C238","v":"TJ Sokol Sedlnice"},{"$f":"H238","v":350},{"$f":"I238","v":175},{"$f":"J238","v":4},{"$f":"K238","v":525},null,{"$f":"G238+G239","v":264}]
[null,null,null,90,44,2,134]
[null,null,null,90,36,0,126,null,null,null,"3-4-2-1",null,null,null,null,null,null,null,null,{"$f":"G240+G241","v":261}]
[null,null,null,85,50,0,135]
[1,{"$f":"Export!B108","v":"Topičová Natálie"},{"$f":"Export!C108","v":"KK Slovan Rosice"},96,52,0,148,{"$f":"SUM(D242:D245)","v":395},{"$f":"SUM(E242:E245)","v":227},{"$f":"SUM(F242:F245)","v":1},{"$f":"SUM(G242:G245)","v":622},{"$f":"K242+H244","v":622},{"$f":"B242","v":"Topičová Natálie"},{"$f":"C242","v":"KK Slovan Rosice"},{"$f":"H242","v":395},{"$f":"I242","v":227},{"$f":"J242","v":1},{"$f":"K242","v":622},null,{"$f":"G242+G243","v":309}]
[null,null,null,100,61,0,161]
[null,null,null,106,51,1,157,null,null,null,"4-3-1-2",null,null,null,null,null,null,null,null,{"$f":"G244+G245","v":313}]
[null,null,null,93,63,0,156]
[]
[null,null,null,{"$f":"MAX(D4:D197)","v":108},{"$f":"MAX(E4:E197)","v":71},9,172,406,219,{"$f":"MIN(J4:J197)","v":1},610,null,null,null,null,null,null,null,null,{"$f":"MAX(T4:T197)","v":307}]

{"sheet":"Export","index":2,"n_rows":108,"n_cols":7,"rows_kept":108,"cut":false,"hidden":false,"merged":[]}
[{"$f":"Zadání!A1","v":"Juniorky"}]
[]
[1,{"$f":"Zadání!M4","v":"Buďová Tereza"},{"$f":"Zadání!N4","v":"TJ Nové Město na Moravě"},{"$f":"Zadání!O4","v":349},{"$f":"Zadání!P4","v":170},{"$f":"Zadání!Q4","v":7},{"$f":"Zadání!R4","v":519}]
[2,{"$f":"Zadání!M8","v":"Betuštiaková Stanislava"},{"$f":"Zadání!N8","v":"Sokol Nové Hrady"},{"$f":"Zadání!O8","v":356},{"$f":"Zadání!P8","v":174},{"$f":"Zadání!Q8","v":9},{"$f":"Zadání!R8","v":530}]
[3,{"$f":"Zadání!M12","v":"Kubáčková Eliška"},{"$f":"Zadání!N12","v":"TJ Sokol Husovice"},{"$f":"Zadání!O12","v":374},{"$f":"Zadání!P12","v":172},{"$f":"Zadání!Q12","v":4},{"$f":"Zadání!R12","v":546}]
[4,{"$f":"Zadání!M16","v":"Beranová Hana"},{"$f":"Zadání!N16","v":"SK Baník Ratíškovice"},{"$f":"Zadání!O16","v":353},{"$f":"Zadání!P16","v":185},{"$f":"Zadání!Q16","v":4},{"$f":"Zadání!R16","v":538}]
[5,{"$f":"Zadání!M20","v":"Betuštiaková Natálie"},{"$f":"Zadání!N20","v":"Sokol Nové Hrady"},{"$f":"Zadání!O20","v":341},{"$f":"Zadání!P20","v":117},{"$f":"Zadání!Q20","v":14},{"$f":"Zadání!R20","v":458}]
[6,{"$f":"Zadání!M24","v":"Kusiová Aneta"},{"$f":"Zadání!N24","v":"KK Slavoj Žirovnice"},{"$f":"Zadání!O24","v":358},{"$f":"Zadání!P24","v":154},{"$f":"Zadání!Q24","v":8},{"$f":"Zadání!R24","v":512}]
[7,{"$f":"Zadání!M28","v":"Šimková Jitka"},{"$f":"Zadání!N28","v":"SK Podlužan Prušánky"},{"$f":"Zadání!O28","v":345},{"$f":"Zadání!P28","v":194},{"$f":"Zadání!Q28","v":4},{"$f":"Zadání!R28","v":539}]
[8,{"$f":"Zadání!M32","v":"Niklová Monika"},{"$f":"Zadání!N32","v":"TJ Sokol Vracov"},{"$f":"Zadání!O32","v":367},{"$f":"Zadání!P32","v":194},{"$f":"Zadání!Q32","v":3},{"$f":"Zadání!R32","v":561}]
[9,{"$f":"Zadání!M36","v":"Zajacová Michaela"},{"$f":"Zadání!N36","v":"KK Blansko"},{"$f":"Zadání!O36","v":357},{"$f":"Zadání!P36","v":173},{"$f":"Zadání!Q36","v":7},{"$f":"Zadání!R36","v":530}]
[10,{"$f":"Zadání!M40","v":"Dinnebierová Ilona"},{"$f":"Zadání!N40","v":"TJ Start Jihlava"},{"$f":"Zadání!O40","v":315},{"$f":"Zadání!P40","v":128},{"$f":"Zadání!Q40","v":13},{"$f":"Zadání!R40","v":443}]
[11,{"$f":"Zadání!M44","v":"Topičová Natálie"},{"$f":"Zadání!N44","v":"KK Slovan Rosice"},{"$f":"Zadání!O44","v":406},{"$f":"Zadání!P44","v":204},{"$f":"Zadání!Q44","v":2},{"$f":"Zadání!R44","v":610}]
[12,{"$f":"Zadání!M48","v":"Presová Veronika"},{"$f":"Zadání!N48","v":"TJ Sokol Vracov"},{"$f":"Zadání!O48","v":342},{"$f":"Zadání!P48","v":165},{"$f":"Zadání!Q48","v":4},{"$f":"Zadání!R48","v":507}]
[13,{"$f":"Zadání!M52","v":"Fejfarová Martina"},{"$f":"Zadání!N52","v":"SKK Vrchlabí"},{"$f":"Zadání!O52","v":322},{"$f":"Zadání!P52","v":151},{"$f":"Zadání!Q52","v":14},{"$f":"Zadání!R52","v":473}]
[14,{"$f":"Zadání!M56","v":"Mašlaňová Anna"},{"$f":"Zadání!N56","v":"TJ Kelč"},{"$f":"Zadání!O56","v":353},{"$f":"Zadání!P56","v":187},{"$f":"Zadání!Q56","v":4},{"$f":"Zadání!R56","v":540}]
[15,{"$f":"Zadání!M60","v":"Běhounová Michaela"},{"$f":"Zadání!N60","v":"TJ Jiskra Nová Bystřice"},{"$f":"Zadání!O60","v":365},{"$f":"Zadání!P60","v":180},{"$f":"Zadání!Q60","v":3},{"$f":"Zadání!R60","v":545}]
[16,{"$f":"Zadání!M64","v":"Žáčková Michaela"},{"$f":"Zadání!N64","v":"KK PSJ Jihlava"},{"$f":"Zadání!O64","v":355},{"$f":"Zadání!P64","v":171},{"$f":"Zadání!Q64","v":7},{"$f":"Zadání!R64","v":526}]
[17,{"$f":"Zadání!M68","v":"Pavelková Monika"},{"$f":"Zadání!N68","v":"TJ Spartak Přerov"},{"$f":"Zadání!O68","v":357},{"$f":"Zadání!P68","v":174},{"$f":"Zadání!Q68","v":6},{"$f":"Zadání!R68","v":531}]
[18,{"$f":"Zadání!M72","v":"Vrecková Hana"},{"$f":"Zadání!N72","v":"TJ Jiskra Nová Bystřice"},{"$f":"Zadání!O72","v":366},{"$f":"Zadání!P72","v":166},{"$f":"Zadání!Q72","v":12},{"$f":"Zadání!R72","v":532}]
[19,{"$f":"Zadání!M76","v":"Nálevková Denisa"},{"$f":"Zadání!N76","v":"SKK Hořice"},{"$f":"Zadání!O76","v":341},{"$f":"Zadání!P76","v":159},{"$f":"Zadání!Q76","v":7},{"$f":"Zadání!R76","v":500}]
[20,{"$f":"Zadání!M80","v":"Šustková Petra"},{"$f":"Zadání!N80","v":"KC Zlín"},{"$f":"Zadání!O80","v":339},{"$f":"Zadání!P80","v":149},{"$f":"Zadání!Q80","v":5},{"$f":"Zadání!R80","v":488}]
[21,{"$f":"Zadání!M84","v":"Portyšová Nikola"},{"$f":"Zadání!N84","v":"SKK Jičín"},{"$f":"Zadání!O84","v":370},{"$f":"Zadání!P84","v":186},{"$f":"Zadání!Q84","v":2},{"$f":"Zadání!R84","v":556}]
[22,{"$f":"Zadání!M88","v":"Miláčková Klára"},{"$f":"Zadání!N88","v":"TJ Spartak Kutná Hora"},{"$f":"Zadání!O88","v":349},{"$f":"Zadání!P88","v":176},{"$f":"Zadání!Q88","v":6},{"$f":"Zadání!R88","v":525}]
[23,{"$f":"Zadání!M92","v":"Zimáková Kristýna"},{"$f":"Zadání!N92","v":"KC Zlín"},{"$f":"Zadání!O92","v":378},{"$f":"Zadání!P92","v":153},{"$f":"Zadání!Q92","v":7},{"$f":"Zadání!R92","v":531}]
[24,{"$f":"Zadání!M96","v":"Janyšková Barbora"},{"$f":"Zadání!N96","v":"TJ Sokol Sedlnice"},{"$f":"Zadání!O96","v":387},{"$f":"Zadání!P96","v":180},{"$f":"Zadání!Q96","v":3},{"$f":"Zadání!R96","v":567}]
[25,{"$f":"Zadání!M100","v":"Weissová Michaela"},{"$f":"Zadání!N100","v":"KK Jiří Poděbrady"},{"$f":"Zadání!O100","v":339},{"$f":"Zadání!P100","v":158},{"$f":"Zadání!Q100","v":6},{"$f":"Zadání!R100","v":497}]
[26,{"$f":"Zadání!M104","v":"Vajdíková Lucie"},{"$f":"Zadání!N104","v":"TJ Lomnice"},{"$f":"Zadání!O104","v":356},{"$f":"Zadání!P104","v":141},{"$f":"Zadání!Q104","v":12},{"$f":"Zadání!R104","v":497}]
[27,{"$f":"Zadání!M108","v":"Wajsarová Monika"},{"$f":"Zadání!N108","v":"TJ Dynamo Liberec"},{"$f":"Zadání!O108","v":353},{"$f":"Zadání!P108","v":177},{"$f":"Zadání!Q108","v":1},{"$f":"Zadání!R108","v":530}]
[28,{"$f":"Zadání!M112","v":"Doškářová Anna"},{"$f":"Zadání!N112","v":"KK Kosmonosy"},{"$f":"Zadání!O112","v":339},{"$f":"Zadání!P112","v":133},{"$f":"Zadání!Q112","v":14},{"$f":"Zadání!R112","v":472}]
[29,{"$f":"Zadání!M116","v":"Štursová Tereza"},{"$f":"Zadání!N116","v":"TJ Lomnice"},{"$f":"Zadání!O116","v":362},{"$f":"Zadání!P116","v":168},{"$f":"Zadání!Q116","v":7},{"$f":"Zadání!R116","v":530}]
[30,{"$f":"Zadání!M120","v":"Rubášová Michaela"},{"$f":"Zadání!N120","v":"TJ Sokol Kdyně"},{"$f":"Zadání!O120","v":361},{"$f":"Zadání!P120","v":136},{"$f":"Zadání!Q120","v":18},{"$f":"Zadání!R120","v":497}]
[31,{"$f":"Zadání!M124","v":"Lidman Linda"},{"$f":"Zadání!N124","v":"TJ Jiskra Hazlov"},{"$f":"Zadání!O124","v":368},{"$f":"Zadání!P124","v":180},{"$f":"Zadání!Q124","v":1},{"$f":"Zadání!R124","v":548}]
[32,{"$f":"Zadání!M128","v":"Schuldová Radka"},{"$f":"Zadání!N128","v":"Kuželky Holýšov"},{"$f":"Zadání!O128","v":317},{"$f":"Zadání!P128","v":130},{"$f":"Zadání!Q128","v":15},{"$f":"Zadání!R128","v":447}]
[33,{"$f":"Zadání!M132","v":"Pytlíková Denisa"},{"$f":"Zadání!N132","v":"SKK Rokycany"},{"$f":"Zadání!O132","v":369},{"$f":"Zadání!P132","v":181},{"$f":"Zadání!Q132","v":4},{"$f":"Zadání!R132","v":550}]
[34,{"$f":"Zadání!M136","v":"Maněnová Monika"},{"$f":"Zadání!N136","v":"TJ Šabina"},{"$f":"Zadání!O136","v":389},{"$f":"Zadání!P136","v":174},{"$f":"Zadání!Q136","v":4},{"$f":"Zadání!R136","v":563}]
[35,{"$f":"Zadání!M140","v":"Vašáková Barbora"},{"$f":"Zadání!N140","v":"TJ Loko Ústí nad Labem"},{"$f":"Zadání!O140","v":378},{"$f":"Zadání!P140","v":180},{"$f":"Zadání!Q140","v":5},{"$f":"Zadání!R140","v":558}]
[36,{"$f":"Zadání!M144","v":"Utíkalová Karoline"},{"$f":"Zadání!N144","v":"TJ Jiskra Hazlov"},{"$f":"Zadání!O144","v":361},{"$f":"Zadání!P144","v":163},{"$f":"Zadání!Q144","v":8},{"$f":"Zadání!R144","v":524}]
[]
[]
[1,{"$f":"Zadání!M242","v":"Topičová Natálie"},{"$f":"Zadání!N242","v":"KK Slovan Rosice"},{"$f":"Zadání!O242","v":395},{"$f":"Zadání!P242","v":227},{"$f":"Zadání!Q242","v":1},{"$f":"Zadání!R242","v":622}]
[2,{"$f":"Zadání!M238","v":"Janyšková Barbora"},{"$f":"Zadání!N238","v":"TJ Sokol Sedlnice"},{"$f":"Zadání!O238","v":350},{"$f":"Zadání!P238","v":175},{"$f":"Zadání!Q238","v":4},{"$f":"Zadání!R238","v":525}]
[3,{"$f":"Zadání!M234","v":"Maněnová Monika"},{"$f":"Zadání!N234","v":"TJ Šabina"},{"$f":"Zadání!O234","v":358},{"$f":"Zadání!P234","v":173},{"$f":"Zadání!Q234","v":9},{"$f":"Zadání!R234","v":531}]
[4,{"$f":"Zadání!M230","v":"Niklová Monika"},{"$f":"Zadání!N230","v":"TJ Sokol Vracov"},{"$f":"Zadání!O230","v":360},{"$f":"Zadání!P230","v":161},{"$f":"Zadání!Q230","v":5},{"$f":"Zadání!R230","v":521}]
[5,{"$f":"Zadání!M226","v":"Vašáková Barbora"},{"$f":"Zadání!N226","v":"TJ Loko Ústí nad Labem"},{"$f":"Zadání!O226","v":351},{"$f":"Zadání!P226","v":172},{"$f":"Zadání!Q226","v":6},{"$f":"Zadání!R226","v":523}]
[6,{"$f":"Zadání!M222","v":"Portyšová Nikola"},{"$f":"Zadání!N222","v":"SKK Jičín"},{"$f":"Zadání!O222","v":379},{"$f":"Zadání!P222","v":188},{"$f":"Zadání!Q222","v":3},{"$f":"Zadání!R222","v":567}]
[7,{"$f":"Zadání!M218","v":"Pytlíková Denisa"},{"$f":"Zadání!N218","v":"SKK Rokycany"},{"$f":"Zadání!O218","v":418},{"$f":"Zadání!P218","v":158},{"$f":"Zadání!Q218","v":7},{"$f":"Zadání!R218","v":576}]
[8,{"$f":"Zadání!M214","v":"Lidman Linda"},{"$f":"Zadání!N214","v":"TJ Jiskra Hazlov"},{"$f":"Zadání!O214","v":365},{"$f":"Zadání!P214","v":205},{"$f":"Zadání!Q214","v":2},{"$f":"Zadání!R214","v":570}]
[9,{"$f":"Zadání!M210","v":"Kubáčková Eliška"},{"$f":"Zadání!N210","v":"TJ Sokol Husovice"},{"$f":"Zadání!O210","v":381},{"$f":"Zadání!P210","v":171},{"$f":"Zadání!Q210","v":6},{"$f":"Zadání!R210","v":552}]
[10,{"$f":"Zadání!M206","v":"Běhounová Michaela"},{"$f":"Zadání!N206","v":"TJ Jiskra Nová Bystřice"},{"$f":"Zadání!O206","v":352},{"$f":"Zadání!P206","v":169},{"$f":"Zadání!Q206","v":6},{"$f":"Zadání!R206","v":521}]
[11,{"$f":"Zadání!M202","v":"Mašláňová Anna"},{"$f":"Zadání!N202","v":"TJ Kelč"},{"$f":"Zadání!O202","v":383},{"$f":"Zadání!P202","v":205},{"$f":"Zadání!Q202","v":1},{"$f":"Zadání!R202","v":588}]
[12,{"$f":"Zadání!M198","v":"Šimková Jitka"},{"$f":"Zadání!N198","v":"SK Podlužan Prušánky"},{"$f":"Zadání!O198","v":371},{"$f":"Zadání!P198","v":175},{"$f":"Zadání!Q198","v":6},{"$f":"Zadání!R198","v":546}]
[13,{"$f":"Zadání!M194","v":"Beranová Hana"},{"$f":"Zadání!N194","v":"SK Baník Ratíškovice"},{"$f":"Zadání!O194","v":351},{"$f":"Zadání!P194","v":182},{"$f":"Zadání!Q194","v":7},{"$f":"Zadání!R194","v":533}]
[14,{"$f":"Zadání!M190","v":"Vrecková Hana"},{"$f":"Zadání!N190","v":"TJ Jiskra Nová Bystřice"},{"$f":"Zadání!O190","v":381},{"$f":"Zadání!P190","v":163},{"$f":"Zadání!Q190","v":8},{"$f":"Zadání!R190","v":544}]
[15,{"$f":"Zadání!M186","v":"Pavelková Monika"},{"$f":"Zadání!N186","v":"TJ Spartak Přerov"},{"$f":"Zadání!O186","v":374},{"$f":"Zadání!P186","v":205},{"$f":"Zadání!Q186","v":5},{"$f":"Zadání!R186","v":579}]
[16,{"$f":"Zadání!M182","v":"Zimáková Kristýna"},{"$f":"Zadání!N182","v":"KC Zlín"},{"$f":"Zadání!O182","v":370},{"$f":"Zadání!P182","v":144},{"$f":"Zadání!Q182","v":11},{"$f":"Zadání!R182","v":514}]
[17,{"$f":"Zadání!M178","v":"Wajsarová Monika"},{"$f":"Zadání!N178","v":"TJ Dynamo Liberec"},{"$f":"Zadání!O178","v":376},{"$f":"Zadání!P178","v":203},{"$f":"Zadání!Q178","v":1},{"$f":"Zadání!R178","v":579}]
[18,{"$f":"Zadání!M174","v":"Betuštiaková Stanislava"},{"$f":"Zadání!N174","v":"Sokol Nové Hrady"},{"$f":"Zadání!O174","v":364},{"$f":"Zadání!P174","v":158},{"$f":"Zadání!Q174","v":16},{"$f":"Zadání!R174","v":522}]
[19,{"$f":"Zadání!M170","v":"Zajacová Michaela"},{"$f":"Zadání!N170","v":"KK Blansko"},{"$f":"Zadání!O170","v":383},{"$f":"Zadání!P170","v":166},{"$f":"Zadání!Q170","v":10},{"$f":"Zadání!R170","v":549}]
[20,{"$f":"Zadání!M166","v":"Štursová Tereza"},{"$f":"Zadání!N166","v":"TJ Lomnice"},{"$f":"Zadání!O166","v":363},{"$f":"Zadání!P166","v":175},{"$f":"Zadání!Q166","v":5},{"$f":"Zadání!R166","v":538}]
[21,{"$f":"Zadání!M162","v":"Žáčková Michaela"},{"$f":"Zadání!N162","v":"KK PSJ Jihlava"},{"$f":"Zadání!O162","v":341},{"$f":"Zadání!P162","v":163},{"$f":"Zadání!Q162","v":6},{"$f":"Zadání!R162","v":504}]
[22,{"$f":"Zadání!M158","v":"Miláčková Klára"},{"$f":"Zadání!N158","v":"TJ Spartak Kutná Hora"},{"$f":"Zadání!O158","v":350},{"$f":"Zadání!P158","v":167},{"$f":"Zadání!Q158","v":11},{"$f":"Zadání!R158","v":517}]
[23,{"$f":"Zadání!M154","v":"Utíkalová Karoline"},{"$f":"Zadání!N154","v":"TJ Jiskra Hazlov"},{"$f":"Zadání!O154","v":367},{"$f":"Zadání!P154","v":186},{"$f":"Zadání!Q154","v":3},{"$f":"Zadání!R154","v":553}]
[24,{"$f":"Zadání!M150","v":"Buďová Tereza"},{"$f":"Zadání!N150","v":"TJ Nové Město na Moravě"},{"$f":"Zadání!O150","v":368},{"$f":"Zadání!P150","v":219},{"$f":"Zadání!Q150","v":1},{"$f":"Zadání!R150","v":587}]
[]
[]
[]
[]
[]
[]
[]
[]
[]
[]
[]
[]
[]
[]
[]
[]
[]
[]
[]
[]
[1,"Buďová Tereza","TJ Nové Město na Moravě"]
[2,"Utíkalová Karoline","TJ Jiskra Hazlov"]
[3,"Miláčková Klára","TJ Spartak Kutná Hora"]
[4,"Žáčková Michaela","KK PSJ Jihlava"]
[5,"Štursová Tereza","TJ Lomnice"]
[6,"Zajacová Michaela","KK Blansko"]
[7,"Betuštiaková Stanislava","Sokol Nové Hrady"]
[8,"Wajsarová Monika","TJ Dynamo Liberec"]
[9,"Zimáková Kristýna","KC Zlín"]
[10,"Pavelková Monika","TJ Spartak Přerov"]
[11,"Vrecková Hana","TJ Jiskra Nová Bystřice"]
[12,"Beranová Hana","SK Baník Ratíškovice"]
[13,"Šimková Jitka","SK Podlužan Prušánky"]
[14,"Mašláňová Anna","TJ Kelč"]
[15,"Běhounová Michaela","TJ Jiskra Nová Bystřice"]
[16,"Kubáčková Eliška","TJ Sokol Husovice"]
[17,"Lidman Linda","TJ Jiskra Hazlov"]
[18,"Pytlíková Denisa","SKK Rokycany"]
[19,"Portyšová Nikola","SKK Jičín"]
[20,"Vašáková Barbora","TJ Loko Ústí nad Labem"]
[21,"Niklová Monika","TJ Sokol Vracov"]
[22,"Maněnová Monika","TJ Šabina"]
[23,"Janyšková Barbora","TJ Sokol Sedlnice"]
[24,"Topičová Natálie","KK Slovan Rosice"]

{"sheet":"Prezence a los","index":3,"n_rows":37,"n_cols":7,"rows_kept":37,"cut":false,"hidden":false,"merged":[]}
[null,"Počet hráčů:",{"$f":"COUNTA(E2:E37)","v":36}]
[1,"Buďová Tereza","TJ Nové Město na Moravě","J 3","x",null,"Návod"]
[2,"Betuštiaková Stanislava","Sokol Nové Hrady","E 3","x",null,"!!! Pro práci se souborem je nutné mít povolená makra"]
[3,"Kubáčková Eliška","TJ Sokol Husovice","B 4","x",null,"Na listu Prezence se uvedou jména hráčů a oddíl - vhodné udělat předem dle přihlášek z krajů"]
[4,"Beranová Hana","SK Baník Ratíškovice","B 3","x",null,"B - Jméno, C - Oddíl, D - kraj+číslo"]
[5,"Betuštiaková Natálie","Sokol Nové Hrady","E 2","x",null,"Přítomné označ křížkem ve sloupci E - lze použít pro kontrolu prezence"]
[6,"Kusiová Aneta","KK Slavoj Žirovnice","J 2","x",null,"- z listu Prezence se jména přenáší automaticky na list Zadání"]
[7,"Šimková Jitka","SK Podlužan Prušánky","M/T 5","x",null,"Na listu Zadání se zadávají výkony po třicítkách, vždy zde vyplňuj jen žlutá pole"]
[8,"Niklová Monika","TJ Sokol Vracov","B 2","x",null,"Na listu Výstup se shromažďují všechna podstatná data"]
[9,"Zajacová Michaela","KK Blansko","M/T 4","x",null,"- při kvalifikaci se vše kopíruje a řadí stiskem tlačítka Kvalifikace"]
[10,"Dinnebierová Ilona","TJ Start Jihlava","J 1","x",null,"- obdobně při finále stiskem tlačítka Finále"]
[11,"Topičová Natálie","KK Slovan Rosice","B 1","x",null,"POZOR - po ukončení kvalifikace stiskni tlačítko Přenos - jen jednou, během finále už toto tlačítko nepoužívej !!"]
[12,"Presová Veronika","TJ Sokol Vracov","E 1","x",null,"(tím se přenesou jména finalistů do Zadání a lze zadávat výkony)"]
[13,"Fejfarová Martina","SKK Vrchlabí","H 2","x"]
[14,"Mašlaňová Anna","TJ Kelč","Z 3","x",null,"Poznámka - na list Výstup se kopírují jen \"tvrdá\" data a vše se po každém bloku hráček"]
[15,"Běhounová Michaela","TJ Jiskra Nová Bystřice","C 2","x",null,"znovu přepisuje a řadí tím je zabezpečeno, že se data neztratí"]
[16,"Žáčková Michaela","KK PSJ Jihlava","M/T 3","x",null,"Data se vyplňují pouze na listech Zadání a Prezence, v žádném případě nemodifikuj list Export"]
[17,"Pavelková Monika","TJ Spartak Přerov","M/T 2","x"]
[18,"Vrecková Hana","TJ Jiskra Nová Bystřice","C 1","x"]
[19,"Nálevková Denisa","SKK Hořice","H 1","x"]
[20,"Šustková Petra","KC Zlín","Z 2","x"]
[21,"Portyšová Nikola","SKK Jičín","A 2","x"]
[22,"Miláčková Klára","TJ Spartak Kutná Hora","S 2","x"]
[23,"Zimáková Kristýna","KC Zlín","Z 1","x"]
[24,"Janyšková Barbora","TJ Sokol Sedlnice","M/T 1","x"]
[25,"Weissová Michaela","KK Jiří Poděbrady","A 1","x"]
[26,"Vajdíková Lucie","TJ Lomnice","K 3","x"]
[27,"Wajsarová Monika","TJ Dynamo Liberec","L 3","x"]
[28,"Doškářová Anna","KK Kosmonosy","S 1","x"]
[29,"Štursová Tereza","TJ Lomnice","K 2","x"]
[30,"Rubášová Michaela","TJ Sokol Kdyně","P 2","x"]
[31,"Lidman Linda","TJ Jiskra Hazlov","L 2","x"]
[32,"Schuldová Radka","Kuželky Holýšov","U 2","x"]
[33,"Pytlíková Denisa","SKK Rokycany","P 1","x"]
[34,"Maněnová Monika","TJ Šabina","L 1","x"]
[35,"Vašáková Barbora","TJ Loko Ústí nad Labem","U 1","x"]
[36,"Utíkalová Karoline","TJ Jiskra Hazlov","K 1","x"]